BEGIN:VCALENDAR
VERSION:2.0
PRODID:-//hacksw/handcal//NONSGML v1.0//EN
CALSCALE:GREGORIAN
BEGIN:VEVENT
UID:event1841@engineersnovascotia.ca
DTSTAMP:20240731T100138Z
URL;VALUE=URI:https://engineersnovascotia.ca/events/view/?event.id=1841
DTSTART:20240822T200000Z
DTEND:20240822T220000Z
SUMMARY:Swim & Paddle Day
LOCATION:Long Lake Provincial Park\, 75 Old Sambro Road
END:VEVENT
END:VCALENDAR